BEGIN:VCALENDAR
VERSION:2.0
PRODID:-//eventon.com NONSGML v1.0//EN
CALSCALE:GREGORIAN
METHOD:PUBLISH
BEGIN:VEVENT
UID:69e88a59c41fe
DTSTAMP:20260422T084409Z
DTSTART:20240705T160000Z
DTEND:20240706T000000Z
LOCATION:Dundurn National Historic Site 610 York Blvd\,  Hamilton\,  ON L8R 3E7
SUMMARY:Summer Nights: Extended Hours in Dundurn's Historic Kitchen Garden
DESCRIPTION:Dundurn’s Historic Kitchen Garden will be open late each Frid
 ay in July. Wander the 1.5-acre manicured garden and see how the flowers\, 
  birds and insects prepare for night as the sun sets. Explore with free sel
 f-guided tours and family-friendly interactive prompts.\nhttps://hamiltonci
 vicmuseums.ca/events/summer-nights-extended-hours-in-dundurns-historic-kitc
 hen-garden/
URL:https://hamiltoncivicmuseums.ca/events/summer-nights-extended-hours-in-dundurns-historic-kitchen-garden/
END:VEVENT
END:VCALENDAR