BEGIN:VCALENDAR
VERSION:2.0
PRODID:-//eventon.com NONSGML v1.0//EN
CALSCALE:GREGORIAN
METHOD:PUBLISH
BEGIN:VEVENT
UID:69e746dd79eac
DTSTAMP:20260421T094357Z
DTSTART:20251206T000000Z
DTEND:20251222T020000Z
LOCATION:Dundurn National Historic Site 610 York Blvd\,  Hamilton\,  ON L8R 3E7
SUMMARY:Dundurn Victorian Christmas Evening Tours
DESCRIPTION:Experience the magic of the season with a festive evening at Du
 ndurn Castle! Start your night with carol-singing in the grand front hall\,
   then embark on an extended tour of Sir Allan MacNab’s beautifully decor
 ated home.&nbsp; As you wander through the castle\,  learn about Victorian 
 Christmas traditions and how they[..]\nhttps://hamiltoncivicmuseums.ca/even
 ts/christmas-evening-tour-5-copy-copy/
URL:https://hamiltoncivicmuseums.ca/events/christmas-evening-tour-5-copy-copy/
END:VEVENT
END:VCALENDAR